BEGIN:VCALENDAR
VERSION:2.0
PRODID:-//Plaza Garibaldi Chicago - ECPv6.15.18//NONSGML v1.0//EN
CALSCALE:GREGORIAN
METHOD:PUBLISH
X-ORIGINAL-URL:https://plazagaribaldi.live
X-WR-CALDESC:Events for Plaza Garibaldi Chicago
REFRESH-INTERVAL;VALUE=DURATION:PT1H
X-Robots-Tag:noindex
X-PUBLISHED-TTL:PT1H
BEGIN:VTIMEZONE
TZID:UTC
BEGIN:STANDARD
TZOFFSETFROM:+0000
TZOFFSETTO:+0000
TZNAME:UTC
DTSTART:20250101T000000
END:STANDARD
END:VTIMEZONE
BEGIN:VEVENT
DTSTART;TZID=UTC:20260503T120000
DTEND;TZID=UTC:20260503T220000
DTSTAMP:20260422T171536
CREATED:20240828T154956Z
LAST-MODIFIED:20260331T193901Z
UID:1934-1777809600-1777845600@plazagaribaldi.live
SUMMARY:Cinco de May Fest
DESCRIPTION:BUY TICKETS\n					\n					\n								\n				\n										\n						\n									TABLE RSVP\n					\n					\n								\n				\n									VivaTuMusica.comPresenta Cinco de Mayo Manda VTM Al 60504 Message & Data Rates May Apply *100% Familiar*Estacionamiento Disponible*Doors 12pm For more Information: 1(773) 769-3400
URL:https://plazagaribaldi.live/event/cinco-de-may-fest/
LOCATION:Plaza Garibaldi\, 2755 S Rockwell Ave\, Chicago\, IL 60608\, Chicago\, IL\, 60608\, United States
CATEGORIES:Live
ATTACH;FMTTYPE=image/jpeg:https://plazagaribaldi.live/wp-content/uploads/2024/08/cincodemayo.jpg
ORGANIZER;CN="VivaTuMusica Entertainment":MAILTO:info@vivatumusica.com
END:VEVENT
END:VCALENDAR